Workbook

Sheet Course pass rates
A1: Enter your data in the white-shaded cells. Excel will calculate the rates in the blue cells.
A2: Course Passing Rate Data | B2: 1st Quarter | C2: 2nd Quarter | D2: 3rd Quarter | E2: 4th Quarter
A3: Percent of 9th graders passing English/ELA class
A4: Students with disabilities
A5: All students
A6: Gap:SWD and all students | B6: =B5-B4 -> 0 | C6: =C5-C4 -> 0 | D6: =D5-D4 -> 0 | E6: =E5-E4 -> 0
A8: Percent of 10th graders passing English/ELA class
A9: Students with disabilities
A10: All students
A11: Gap:SWD and all students | B11: =B10-B9 -> 0 | C11: =C10-C9 -> 0 | D11: =D10-D9 -> 0 | E11: =E10-E9 -> 0
A13: Percent of 11th graders passing English/ELA class
A14: Students with disabilities
A15: All students
A16: Gap:SWD and all students | B16: =B15-B14 -> 0 | C16: =C15-C14 -> 0 | D16: =D15-D14 -> 0 | E16: =E15-E14 -> 0
A18: Percent of 12th graders passing English/ELA class
A19: Students with disabilities
A20: All students
A21: Gap:SWD and all students | B21: =B20-B19 -> 0 | C21: =C20-C19 -> 0 | D21: =D20-D19 -> 0 | E21: =E20-E19 -> 0
A23: Percent of 9th graders passing mathematics class
A24: Students with disabilities
A25: All students
A26: Gap:SWD and all students | B26: =B25-B24 -> 0 | C26: =C25-C24 -> 0 | D26: =D25-D24 -> 0 | E26: =E25-E24 -> 0
A28: Percent of 10th graders passing mathematics class
A29: Students with disabilities
A30: All students
A31: Gap:SWD and all students | B31: =B30-B29 -> 0 | C31: =C30-C29 -> 0 | D31: =D30-D29 -> 0 | E31: =E30-E29 -> 0
A33: Percent of 11th graders passing mathematics class
A34: Students with disabilities
A35: All students
A36: Gap:SWD and all students | B36: =B35-B34 -> 0 | C36: =C35-C34 -> 0 | D36: =D35-D34 -> 0 | E36: =E35-E34 -> 0
A38: Percent of 12th graders passing mathematics class
A39: Students with disabilities
A40: All students
A41: Gap:SWD and all students | B41: =B40-B39 -> 0 | C41: =C40-C39 -> 0 | D41: =D40-D39 -> 0 | E41: =E40-E39 -> 0

Sheet Calculated Course failure rates
A1: Calculated Course Failure Rates (= 1 minus the percentage Passing) | B1: 1st Quarter | C1: 2nd Quarter | D1: 3rd Quarter | E1: 4th Quarter
A2: Percent of 9th graders failing English/ELA class
A3: Students with disabilities | B3: =1-'Course pass rates'!B4 -> 1 | C3: =1-'Course pass rates'!C4 -> 1 | D3: =1-'Course pass rates'!D4 -> 1 | E3: =1-'Course pass rates'!E4 -> 1
A4: All students | B4: =1-'Course pass rates'!B5 -> 1 | C4: =1-'Course pass rates'!C5 -> 1 | D4: =1-'Course pass rates'!D5 -> 1 | E4: =1-'Course pass rates'!E5 -> 1
A5: Gap:SWD and all students | B5: =B3-B4 -> 0 | C5: =C3-C4 -> 0 | D5: =D3-D4 -> 0 | E5: =E3-E4 -> 0
A7: Percent of 10th graders failing English/ELA class
A8: Students with disabilities | B8: =1-'Course pass rates'!B9 -> 1 | C8: =1-'Course pass rates'!C9 -> 1 | D8: =1-'Course pass rates'!D9 -> 1 | E8: =1-'Course pass rates'!E9 -> 1
A9: All students | B9: =1-'Course pass rates'!B10 -> 1 | C9: =1-'Course pass rates'!C10 -> 1 | D9: =1-'Course pass rates'!D10 -> 1 | E9: =1-'Course pass rates'!E10 -> 1
A10: Gap:SWD and all students | B10: =B8-B9 -> 0 | C10: =C8-C9 -> 0 | D10: =D8-D9 -> 0 | E10: =E8-E9 -> 0
A12: Percent of 11th graders failing English/ELA class
A13: Students with disabilities | B13: =1-'Course pass rates'!B14 -> 1 | C13: =1-'Course pass rates'!C14 -> 1 | D13: =1-'Course pass rates'!D14 -> 1 | E13: =1-'Course pass rates'!E14 -> 1
A14: All students | B14: =1-'Course pass rates'!B15 -> 1 | C14: =1-'Course pass rates'!C15 -> 1 | D14: =1-'Course pass rates'!D15 -> 1 | E14: =1-'Course pass rates'!E15 -> 1
A15: Gap:SWD and all students | B15: =B13-B14 -> 0 | C15: =C13-C14 -> 0 | D15: =D13-D14 -> 0 | E15: =E13-E14 -> 0
A17: Percent of 12th graders failing English/ELA class
A18: Students with disabilities | B18: =1-'Course pass rates'!B19 -> 1 | C18: =1-'Course pass rates'!C19 -> 1 | D18: =1-'Course pass rates'!D19 -> 1 | E18: =1-'Course pass rates'!E19 -> 1
A19: All students | B19: =1-'Course pass rates'!B20 -> 1 | C19: =1-'Course pass rates'!C20 -> 1 | D19: =1-'Course pass rates'!D20 -> 1 | E19: =1-'Course pass rates'!E20 -> 1
A20: Gap:SWD and all students | B20: =B18-B19 -> 0 | C20: =C18-C19 -> 0 | D20: =D18-D19 -> 0 | E20: =E18-E19 -> 0
A22: Percent of 9th graders failing mathematics class
A23: Students with disabilities | B23: =1-'Course pass rates'!B24 -> 1 | C23: =1-'Course pass rates'!C24 -> 1 | D23: =1-'Course pass rates'!D24 -> 1 | E23: =1-'Course pass rates'!E24 -> 1
A24: All students | B24: =1-'Course pass rates'!B25 -> 1 | C24: =1-'Course pass rates'!C25 -> 1 | D24: =1-'Course pass rates'!D25 -> 1 | E24: =1-'Course pass rates'!E25 -> 1
A25: Gap:SWD and all students | B25: =B23-B24 -> 0 | C25: =C23-C24 -> 0 | D25: =D23-D24 -> 0 | E25: =E23-E24 -> 0
A27: Percent of 10th graders failing mathematics class
A28: Students with disabilities | B28: =1-'Course pass rates'!B29 -> 1 | C28: =1-'Course pass rates'!C29 -> 1 | D28: =1-'Course pass rates'!D29 -> 1 | E28: =1-'Course pass rates'!E29 -> 1
A29: All students | B29: =1-'Course pass rates'!B30 -> 1 | C29: =1-'Course pass rates'!C30 -> 1 | D29: =1-'Course pass rates'!D30 -> 1 | E29: =1-'Course pass rates'!E30 -> 1
A30: Gap:SWD and all students | B30: =B28-B29 -> 0 | C30: =C28-C29 -> 0 | D30: =D28-D29 -> 0 | E30: =E28-E29 -> 0
A32: Percent of 11th graders failing mathematics class
A33: Students with disabilities | B33: =1-'Course pass rates'!B34 -> 1 | C33: =1-'Course pass rates'!C34 -> 1 | D33: =1-'Course pass rates'!D34 -> 1 | E33: =1-'Course pass rates'!E34 -> 1
A34: All students | B34: =1-'Course pass rates'!B35 -> 1 | C34: =1-'Course pass rates'!C35 -> 1 | D34: =1-'Course pass rates'!D35 -> 1 | E34: =1-'Course pass rates'!E35 -> 1
A35: Gap:SWD and all students | B35: =B33-B34 -> 0 | C35: =C33-C34 -> 0 | D35: =D33-D34 -> 0 | E35: =E33-E34 -> 0
A37: Percent of 12th graders failing mathematics class
A38: Students with disabilities | B38: =1-'Course pass rates'!B39 -> 1 | C38: =1-'Course pass rates'!C39 -> 1 | D38: =1-'Course pass rates'!D39 -> 1 | E38: =1-'Course pass rates'!E39 -> 1
A39: All students | B39: =1-'Course pass rates'!B40 -> 1 | C39: =1-'Course pass rates'!C40 -> 1 | D39: =1-'Course pass rates'!D40 -> 1 | E39: =1-'Course pass rates'!E40 -> 1
A40: Gap:SWD and all students | B40: =B38-B39 -> 0 | C40: =C38-C39 -> 0 | D40: =D38-D39 -> 0 | E40: =E38-E39 -> 0

Sheet Charts
A1: Course Pass Rates
A70: Course Failure Rates
